BEGIN:VCALENDAR
VERSION:2.0
PRODID:-//Salida Circus - ECPv6.15.20//NONSGML v1.0//EN
CALSCALE:GREGORIAN
METHOD:PUBLISH
X-WR-CALNAME:Salida Circus
X-ORIGINAL-URL:https://thesalidacircus.com
X-WR-CALDESC:Events for Salida Circus
REFRESH-INTERVAL;VALUE=DURATION:PT1H
X-Robots-Tag:noindex
X-PUBLISHED-TTL:PT1H
BEGIN:VTIMEZONE
TZID:America/Denver
BEGIN:DAYLIGHT
TZOFFSETFROM:-0700
TZOFFSETTO:-0600
TZNAME:MDT
DTSTART:20210314T090000
END:DAYLIGHT
BEGIN:STANDARD
TZOFFSETFROM:-0600
TZOFFSETTO:-0700
TZNAME:MST
DTSTART:20211107T080000
END:STANDARD
BEGIN:DAYLIGHT
TZOFFSETFROM:-0700
TZOFFSETTO:-0600
TZNAME:MDT
DTSTART:20220313T090000
END:DAYLIGHT
BEGIN:STANDARD
TZOFFSETFROM:-0600
TZOFFSETTO:-0700
TZNAME:MST
DTSTART:20221106T080000
END:STANDARD
BEGIN:DAYLIGHT
TZOFFSETFROM:-0700
TZOFFSETTO:-0600
TZNAME:MDT
DTSTART:20230312T090000
END:DAYLIGHT
BEGIN:STANDARD
TZOFFSETFROM:-0600
TZOFFSETTO:-0700
TZNAME:MST
DTSTART:20231105T080000
END:STANDARD
BEGIN:DAYLIGHT
TZOFFSETFROM:-0700
TZOFFSETTO:-0600
TZNAME:MDT
DTSTART:20240310T090000
END:DAYLIGHT
BEGIN:STANDARD
TZOFFSETFROM:-0600
TZOFFSETTO:-0700
TZNAME:MST
DTSTART:20241103T080000
END:STANDARD
END:VTIMEZONE
BEGIN:VEVENT
DTSTART;TZID=America/Denver:20230422T163000
DTEND;TZID=America/Denver:20230422T203000
DTSTAMP:20260422T184829
CREATED:20230216T163751Z
LAST-MODIFIED:20230216T163751Z
UID:3738-1682181000-1682195400@thesalidacircus.com
SUMMARY:Parents Night Out for World Circus Day
DESCRIPTION:Kids Celebrate World Circus Day at A Church   from 4:30-8:30 with the Salida Circus and The Salida Library Tutu themed party and circus skill night while parents go out on the town at participating restaurants.
URL:https://thesalidacircus.com/event/parents-night-out-for-world-circus-day/
LOCATION:A Church\, Salida\, colorado
END:VEVENT
BEGIN:VEVENT
DTSTART;TZID=America/Denver:20230408T084500
DTEND;TZID=America/Denver:20230408T230000
DTSTAMP:20260422T184829
CREATED:20230216T163337Z
LAST-MODIFIED:20230216T163337Z
UID:3736-1680943500-1680994800@thesalidacircus.com
SUMMARY:New Creation Easter Egg Hunt
DESCRIPTION:Sara G and Lobecks
URL:https://thesalidacircus.com/event/new-creation-easter-egg-hunt/
END:VEVENT
BEGIN:VEVENT
DTSTART;VALUE=DATE:20230406
DTEND;VALUE=DATE:20230407
DTSTAMP:20260422T184829
CREATED:20230222T195350Z
LAST-MODIFIED:20230222T195404Z
UID:3755-1680739200-1680825599@thesalidacircus.com
SUMMARY:Vail Passover show
DESCRIPTION:April 6 Vail Passover show – Joe 11am
URL:https://thesalidacircus.com/event/vail-passover-show/
LOCATION:vail
END:VEVENT
BEGIN:VEVENT
DTSTART;VALUE=DATE:20230401
DTEND;VALUE=DATE:20230402
DTSTAMP:20260422T184829
CREATED:20230129T174758Z
LAST-MODIFIED:20230129T174758Z
UID:3683-1680307200-1680393599@thesalidacircus.com
SUMMARY:ASCD Conference
DESCRIPTION:
URL:https://thesalidacircus.com/event/ascd-conference/
LOCATION:Colorado Springs\, Co
END:VEVENT
BEGIN:VEVENT
DTSTART;TZID=America/Denver:20230320T090000
DTEND;TZID=America/Denver:20230324T130000
DTSTAMP:20260422T184829
CREATED:20230129T173508Z
LAST-MODIFIED:20230222T195218Z
UID:3670-1679302800-1679662800@thesalidacircus.com
SUMMARY:Spring Break Camp
DESCRIPTION:Children come to camp to learn and improve circus skills along with spending time with friends. \nwith Joan\, Joe\, Lexee\, Joey\, Cassi
URL:https://thesalidacircus.com/event/spring-break-camp/
LOCATION:longfellow elementary
END:VEVENT
BEGIN:VEVENT
DTSTART;VALUE=DATE:20230318
DTEND;VALUE=DATE:20230328
DTSTAMP:20260422T184829
CREATED:20230129T174407Z
LAST-MODIFIED:20230129T174407Z
UID:3681-1679097600-1679961599@thesalidacircus.com
SUMMARY:Belfast Connection
DESCRIPTION:Something Great premiers in Belfast Ireland with Colorado TINTS. \nOutreach connection with the Belfast Circus
URL:https://thesalidacircus.com/event/belfast-connection/
END:VEVENT
BEGIN:VEVENT
DTSTART;VALUE=DATE:20230315
DTEND;VALUE=DATE:20230316
DTSTAMP:20260422T184829
CREATED:20230129T173628Z
LAST-MODIFIED:20230129T173628Z
UID:3673-1678838400-1678924799@thesalidacircus.com
SUMMARY:Alamosa Gig
DESCRIPTION:
URL:https://thesalidacircus.com/event/alamosa-gig/
LOCATION:Alamosa CO\,  610 State Avenue\, Alamosa \, co\, 81101
END:VEVENT
BEGIN:VEVENT
DTSTART;TZID=America/Denver:20230310T080000
DTEND;TZID=America/Denver:20230312T170000
DTSTAMP:20260422T184829
CREATED:20230222T195130Z
LAST-MODIFIED:20230222T195130Z
UID:3752-1678435200-1678640400@thesalidacircus.com
SUMMARY:Something Great Show
DESCRIPTION:One woman show  about one womans life in the Belfast Circus \nshowtimes at A Church on the 10th and BV Library and Starlight March 11th and 12th
URL:https://thesalidacircus.com/event/something-great-show/
END:VEVENT
BEGIN:VEVENT
DTSTART;VALUE=DATE:20230303
DTEND;VALUE=DATE:20230306
DTSTAMP:20260422T184829
CREATED:20230129T172638Z
LAST-MODIFIED:20230222T194752Z
UID:3661-1677801600-1678060799@thesalidacircus.com
SUMMARY:Durango Film Festival
DESCRIPTION:The Documentary  Come One Come All will show along with members of The Salida Circus to hold discussions.
URL:https://thesalidacircus.com/event/durango-film-festival/
LOCATION:Durango\, Co
END:VEVENT
BEGIN:VEVENT
DTSTART;TZID=America/Denver:20230221T140000
DTEND;TZID=America/Denver:20230221T180000
DTSTAMP:20260422T184829
CREATED:20230129T195410Z
LAST-MODIFIED:20230202T153737Z
UID:3687-1676988000-1677002400@thesalidacircus.com
SUMMARY:Key Stone Mardi Gras
DESCRIPTION:Stilt Walkers and Facepaining in Key Stone Village!
URL:https://thesalidacircus.com/event/key-stone-mardi-gras/
LOCATION:Key Stone Village
END:VEVENT
BEGIN:VEVENT
DTSTART;TZID=America/Denver:20230214T150000
DTEND;TZID=America/Denver:20230214T154000
DTSTAMP:20260422T184829
CREATED:20230129T170735Z
LAST-MODIFIED:20230129T170735Z
UID:3657-1676386800-1676389200@thesalidacircus.com
SUMMARY:Valentines Day Celabration
DESCRIPTION:School Showcase For Students and Staff to perform a Valentine’s Day Show
URL:https://thesalidacircus.com/event/valentines-day-celabration/
LOCATION:longfellow elementary
END:VEVENT
BEGIN:VEVENT
DTSTART;TZID=America/Denver:20221030T170000
DTEND;TZID=America/Denver:20221030T200000
DTSTAMP:20260422T184829
CREATED:20221016T193137Z
LAST-MODIFIED:20221016T194110Z
UID:3548-1667149200-1667160000@thesalidacircus.com
SUMMARY:Salida Circus 15th Birthday Celebration
DESCRIPTION:Salida Circus 15th Birthday Celebration and premiere of documentary “Come One\, Come All! The Salida Circus with a Purpose”  5pm A Church\, 419 D St Salida. By donation.
URL:https://thesalidacircus.com/event/salida-circus-15th-birthday-celebration/
LOCATION:A Church\, Salida\, colorado
END:VEVENT
BEGIN:VEVENT
DTSTART;TZID=America/Denver:20221030T140000
DTEND;TZID=America/Denver:20221030T160000
DTSTAMP:20260422T184829
CREATED:20221016T192841Z
LAST-MODIFIED:20221016T192841Z
UID:3545-1667138400-1667145600@thesalidacircus.com
SUMMARY:Trunk or Treat
DESCRIPTION:
URL:https://thesalidacircus.com/event/trunk-or-treat-2/
LOCATION:Aspen Ridge Church\, 27154 N Turkey Creek Rd\,\, Evergreen\, CO\, 80439
END:VEVENT
BEGIN:VEVENT
DTSTART;TZID=America/Denver:20221029T140000
DTEND;TZID=America/Denver:20221029T160000
DTSTAMP:20260422T184829
CREATED:20221016T192631Z
LAST-MODIFIED:20221016T194255Z
UID:3542-1667052000-1667059200@thesalidacircus.com
SUMMARY:Trunk or Treat
DESCRIPTION:
URL:https://thesalidacircus.com/event/trunk-or-treat/
LOCATION:Downtown Parker\, 80108
END:VEVENT
BEGIN:VEVENT
DTSTART;TZID=America/Denver:20221022T100000
DTEND;TZID=America/Denver:20221022T160000
DTSTAMP:20260422T184829
CREATED:20221016T193339Z
LAST-MODIFIED:20221016T193339Z
UID:3552-1666432800-1666454400@thesalidacircus.com
SUMMARY:Salida Fantasy Faire
DESCRIPTION:
URL:https://thesalidacircus.com/event/salida-fantasy-faire/
LOCATION:Alpine Park – Salida\, Between 4th and 5th Streets and E and F Streets. \, Salida\, CO\, 81201
END:VEVENT
BEGIN:VEVENT
DTSTART;TZID=America/Denver:20221015T110000
DTEND;TZID=America/Denver:20221015T160000
DTSTAMP:20260422T184829
CREATED:20221016T192244Z
LAST-MODIFIED:20221016T195238Z
UID:3540-1665831600-1665849600@thesalidacircus.com
SUMMARY:ShedFest
DESCRIPTION:
URL:https://thesalidacircus.com/event/shedfest/
LOCATION:Alpine Park – Salida\, Between 4th and 5th Streets and E and F Streets. \, Salida\, CO\, 81201
END:VEVENT
END:VCALENDAR