BEGIN:VCALENDAR
VERSION:2.0
PRODID:-//Salida Circus - ECPv6.15.20//NONSGML v1.0//EN
CALSCALE:GREGORIAN
METHOD:PUBLISH
X-WR-CALNAME:Salida Circus
X-ORIGINAL-URL:https://thesalidacircus.com
X-WR-CALDESC:Events for Salida Circus
REFRESH-INTERVAL;VALUE=DURATION:PT1H
X-Robots-Tag:noindex
X-PUBLISHED-TTL:PT1H
BEGIN:VTIMEZONE
TZID:America/Denver
BEGIN:DAYLIGHT
TZOFFSETFROM:-0700
TZOFFSETTO:-0600
TZNAME:MDT
DTSTART:20220313T090000
END:DAYLIGHT
BEGIN:STANDARD
TZOFFSETFROM:-0600
TZOFFSETTO:-0700
TZNAME:MST
DTSTART:20221106T080000
END:STANDARD
BEGIN:DAYLIGHT
TZOFFSETFROM:-0700
TZOFFSETTO:-0600
TZNAME:MDT
DTSTART:20230312T090000
END:DAYLIGHT
BEGIN:STANDARD
TZOFFSETFROM:-0600
TZOFFSETTO:-0700
TZNAME:MST
DTSTART:20231105T080000
END:STANDARD
BEGIN:DAYLIGHT
TZOFFSETFROM:-0700
TZOFFSETTO:-0600
TZNAME:MDT
DTSTART:20240310T090000
END:DAYLIGHT
BEGIN:STANDARD
TZOFFSETFROM:-0600
TZOFFSETTO:-0700
TZNAME:MST
DTSTART:20241103T080000
END:STANDARD
BEGIN:DAYLIGHT
TZOFFSETFROM:-0700
TZOFFSETTO:-0600
TZNAME:MDT
DTSTART:20250309T090000
END:DAYLIGHT
BEGIN:STANDARD
TZOFFSETFROM:-0600
TZOFFSETTO:-0700
TZNAME:MST
DTSTART:20251102T080000
END:STANDARD
END:VTIMEZONE
BEGIN:VEVENT
DTSTART;TZID=America/Denver:20240612T103000
DTEND;TZID=America/Denver:20240612T113000
DTSTAMP:20260422T134545
CREATED:20240411T183620Z
LAST-MODIFIED:20240411T183620Z
UID:4151-1718188200-1718191800@thesalidacircus.com
SUMMARY:Library Show Tour
DESCRIPTION:Taos 10:30am
URL:https://thesalidacircus.com/event/library-show-tour-5/
LOCATION:Taos\, NM
END:VEVENT
BEGIN:VEVENT
DTSTART;TZID=America/Denver:20240608T110000
DTEND;TZID=America/Denver:20240608T120000
DTSTAMP:20260422T134545
CREATED:20240411T182923Z
LAST-MODIFIED:20240411T182923Z
UID:4145-1717844400-1717848000@thesalidacircus.com
SUMMARY:Library Show Tour
DESCRIPTION:Littleton at 11:15
URL:https://thesalidacircus.com/event/library-show-tour-3/
LOCATION:Colorado Tour
END:VEVENT
BEGIN:VEVENT
DTSTART;TZID=America/Denver:20240608T090000
DTEND;TZID=America/Denver:20240608T170000
DTSTAMP:20260422T134545
CREATED:20240214T201329Z
LAST-MODIFIED:20240214T201329Z
UID:4113-1717837200-1717866000@thesalidacircus.com
SUMMARY:Gunnison Creative District
DESCRIPTION:Salida Circus Show \nJune 8th  5pm-8pm
URL:https://thesalidacircus.com/event/gunnison-creative-district/
LOCATION:Gunnison\, Colorado
END:VEVENT
BEGIN:VEVENT
DTSTART;TZID=America/Denver:20240607T100000
DTEND;TZID=America/Denver:20240607T110000
DTSTAMP:20260422T134545
CREATED:20240411T182735Z
LAST-MODIFIED:20240411T182735Z
UID:4143-1717754400-1717758000@thesalidacircus.com
SUMMARY:Animal Crackers Tots Class
DESCRIPTION:Salida Library tots class
URL:https://thesalidacircus.com/event/animal-crackers-tots-class/
LOCATION:Salida Public Library
END:VEVENT
BEGIN:VEVENT
DTSTART;VALUE=DATE:20240607
DTEND;VALUE=DATE:20240608
DTSTAMP:20260422T134545
CREATED:20240411T182616Z
LAST-MODIFIED:20240411T182616Z
UID:4141-1717718400-1717804799@thesalidacircus.com
SUMMARY:Library Show Tour
DESCRIPTION:Conifer and Belmar show
URL:https://thesalidacircus.com/event/library-show-tour-2/
END:VEVENT
BEGIN:VEVENT
DTSTART;VALUE=DATE:20240606
DTEND;VALUE=DATE:20240607
DTSTAMP:20260422T134545
CREATED:20240411T182444Z
LAST-MODIFIED:20240411T182444Z
UID:4139-1717632000-1717718399@thesalidacircus.com
SUMMARY:Library Show Tour
DESCRIPTION:Edgewater and Golden
URL:https://thesalidacircus.com/event/library-show-tour/
LOCATION:Colorado Tour
END:VEVENT
BEGIN:VEVENT
DTSTART;VALUE=DATE:20240605
DTEND;VALUE=DATE:20240606
DTSTAMP:20260422T134545
CREATED:20240411T182237Z
LAST-MODIFIED:20240411T182237Z
UID:4136-1717545600-1717631999@thesalidacircus.com
SUMMARY:Library Tour Show
DESCRIPTION:2 show Evergreen and Littleton
URL:https://thesalidacircus.com/event/library-tour-show/
LOCATION:Colorado Tour
END:VEVENT
BEGIN:VEVENT
DTSTART;TZID=America/Denver:20240519T170000
DTEND;TZID=America/Denver:20240519T180000
DTSTAMP:20260422T134545
CREATED:20240214T202130Z
LAST-MODIFIED:20240411T183102Z
UID:4119-1716138000-1716141600@thesalidacircus.com
SUMMARY:World Circus Day
DESCRIPTION:April 20th \nat the Steamplant join Salida Circus for a show!
URL:https://thesalidacircus.com/event/world-circus-day/
LOCATION:Steamplant Theater\, Sackatte St. Salida Co.
END:VEVENT
BEGIN:VEVENT
DTSTART;TZID=America/Denver:20240518T130000
DTEND;TZID=America/Denver:20240518T170000
DTSTAMP:20260422T134545
CREATED:20240411T182042Z
LAST-MODIFIED:20240411T182042Z
UID:4133-1716037200-1716051600@thesalidacircus.com
SUMMARY:Lakewood park opening
DESCRIPTION:Roaming performers
URL:https://thesalidacircus.com/event/lakewood-park-opening/
LOCATION:Lakewood Colorado
END:VEVENT
BEGIN:VEVENT
DTSTART;VALUE=DATE:20240517
DTEND;VALUE=DATE:20240520
DTSTAMP:20260422T134545
CREATED:20240411T181801Z
LAST-MODIFIED:20240411T181801Z
UID:4130-1715904000-1716163199@thesalidacircus.com
SUMMARY:Lamar Days
DESCRIPTION:May 17-19th \nAerial and circus shows all day
URL:https://thesalidacircus.com/event/lamar-days/
LOCATION:Lamar Colorado
END:VEVENT
BEGIN:VEVENT
DTSTART;TZID=America/Denver:20240516T130000
DTEND;TZID=America/Denver:20240516T153000
DTSTAMP:20260422T134545
CREATED:20240411T181020Z
LAST-MODIFIED:20240411T181020Z
UID:4124-1715864400-1715873400@thesalidacircus.com
SUMMARY:Big Friendly Giant
DESCRIPTION:BFG book celebration of Learning with Washington Elementary in Canon City. \nBFG stilt walker
URL:https://thesalidacircus.com/event/big-friendly-giant/
LOCATION:Washington Elementry Canon City
END:VEVENT
BEGIN:VEVENT
DTSTART;VALUE=DATE:20240504
DTEND;VALUE=DATE:20240505
DTSTAMP:20260422T134545
CREATED:20240411T181533Z
LAST-MODIFIED:20240411T181533Z
UID:4128-1714780800-1714867199@thesalidacircus.com
SUMMARY:Center Viking Club
DESCRIPTION:Center Colorado \n 
URL:https://thesalidacircus.com/event/center-viking-club/
END:VEVENT
BEGIN:VEVENT
DTSTART;TZID=America/Denver:20240420T130000
DTEND;TZID=America/Denver:20240420T160000
DTSTAMP:20260422T134545
CREATED:20240411T183216Z
LAST-MODIFIED:20240411T183216Z
UID:4147-1713618000-1713628800@thesalidacircus.com
SUMMARY:Alamosa World Circus Day
DESCRIPTION:World Circus Day in Alamosa
URL:https://thesalidacircus.com/event/alamosa-world-circus-day/
LOCATION:Alamosa CO\,  610 State Avenue\, Alamosa \, co\, 81101
END:VEVENT
BEGIN:VEVENT
DTSTART;TZID=America/Denver:20240411T103000
DTEND;TZID=America/Denver:20240411T113000
DTSTAMP:20260422T134545
CREATED:20240411T183339Z
LAST-MODIFIED:20240411T183339Z
UID:4149-1712831400-1712835000@thesalidacircus.com
SUMMARY:Library Show Tour
DESCRIPTION:Taos 10:30am
URL:https://thesalidacircus.com/event/library-show-tour-4/
LOCATION:Taos\, NM
END:VEVENT
BEGIN:VEVENT
DTSTART;TZID=America/Denver:20240330T110000
DTEND;TZID=America/Denver:20240330T140000
DTSTAMP:20260422T134545
CREATED:20240214T201051Z
LAST-MODIFIED:20240214T201051Z
UID:4110-1711796400-1711807200@thesalidacircus.com
SUMMARY:New Creation Easter Egg Hunt
DESCRIPTION:Glenwood Springs! \nEaster Egg Hunt!
URL:https://thesalidacircus.com/event/new-creation-easter-egg-hunt-2/
LOCATION:New Creations Church\, Glenwood Springs\, Co
END:VEVENT
BEGIN:VEVENT
DTSTART;TZID=America/Denver:20240317T160000
DTEND;TZID=America/Denver:20240317T170000
DTSTAMP:20260422T134545
CREATED:20240214T195356Z
LAST-MODIFIED:20240214T195356Z
UID:4097-1710691200-1710694800@thesalidacircus.com
SUMMARY:St. Pagtrick's Day Live Auction
DESCRIPTION:Come One Come All and join Salida Circus for a fundraiser to send our local youth to the Emergent Leaders International Exchange in Northern Ireland. \nThe auction will be held at A Church On St. Patrick’s Day March 17th at 4pm. \nEnjoy some fun! Listen to the kids speak about their big opportunity to travel oversees and expand their circus skills with IYSC. \n 
URL:https://thesalidacircus.com/event/st-pagtricks-day-live-auction/
LOCATION:A Church\, Salida\, colorado
END:VEVENT
BEGIN:VEVENT
DTSTART;TZID=America/Denver:20240213T143000
DTEND;TZID=America/Denver:20240213T170000
DTSTAMP:20260422T134545
CREATED:20240108T214022Z
LAST-MODIFIED:20240108T214022Z
UID:3988-1707834600-1707843600@thesalidacircus.com
SUMMARY:Mardi Gras
DESCRIPTION:Mardi Gras In Keystone!! \nFace paint and stiltwalking
URL:https://thesalidacircus.com/event/mardi-gras/
LOCATION:Key Stone Village
END:VEVENT
BEGIN:VEVENT
DTSTART;TZID=America/Denver:20240203T130000
DTEND;TZID=America/Denver:20240203T160000
DTSTAMP:20260422T134545
CREATED:20240108T214158Z
LAST-MODIFIED:20240108T214158Z
UID:3990-1706965200-1706976000@thesalidacircus.com
SUMMARY:Denver Birthday for Soleil
DESCRIPTION:Full circus show birthday private party
URL:https://thesalidacircus.com/event/denver-birthday-for-soleil/
LOCATION:Denver
END:VEVENT
BEGIN:VEVENT
DTSTART;TZID=America/Denver:20231125T140000
DTEND;TZID=America/Denver:20231125T170000
DTSTAMP:20260422T134545
CREATED:20230929T183934Z
LAST-MODIFIED:20230929T183934Z
UID:3942-1700920800-1700931600@thesalidacircus.com
SUMMARY:Keystone Winter Festival
DESCRIPTION:Snow Queen on stilts! Face painting! Juggling!
URL:https://thesalidacircus.com/event/keystone-winter-festival/
LOCATION:River Run Village\, Keystone\, 150 Dercum Sq\, Keystone\, CO 80435-7727
END:VEVENT
BEGIN:VEVENT
DTSTART;TZID=America/Denver:20231013T140000
DTEND;TZID=America/Denver:20231013T160000
DTSTAMP:20260422T134545
CREATED:20230726T214815Z
LAST-MODIFIED:20230726T214815Z
UID:3893-1697205600-1697212800@thesalidacircus.com
SUMMARY:The Lost Mermaid
DESCRIPTION:Oct. 13th at 2pm \nRawlings Library Show in Pueblo\, Colorado
URL:https://thesalidacircus.com/event/the-lost-mermaid/
LOCATION:Pueblo City-County Library District Central Library\, 100 E Abriendo Ave\, Pueblo\, CO\, 81004
END:VEVENT
BEGIN:VEVENT
DTSTART;TZID=America/Denver:20231008T110000
DTEND;TZID=America/Denver:20231008T140000
DTSTAMP:20260422T134545
CREATED:20230929T035758Z
LAST-MODIFIED:20230929T035758Z
UID:3936-1696762800-1696773600@thesalidacircus.com
SUMMARY:Silverthorne Pumpkin Patch
DESCRIPTION:A full circus show at the annual pumpkin patch festival in Silverthorne! From 11am to 2pm.
URL:https://thesalidacircus.com/event/silverthorne-pumpkin-patch/
LOCATION:Silverthorne Rainbow Park\, 430 Rainbow Drive\, Silverthorne\, CO\, 80498\, United States
END:VEVENT
BEGIN:VEVENT
DTSTART;TZID=America/Denver:20231007T080000
DTEND;TZID=America/Denver:20231007T170000
DTSTAMP:20260422T134545
CREATED:20230615T193439Z
LAST-MODIFIED:20230615T193439Z
UID:3874-1696665600-1696698000@thesalidacircus.com
SUMMARY:Amber's Denver Wedding
DESCRIPTION:6pm-7:30pm \naerial\, stilts\, juggling\, acro \nvintage classy
URL:https://thesalidacircus.com/event/ambers-denver-wedding/
LOCATION:Denver
END:VEVENT
BEGIN:VEVENT
DTSTART;TZID=America/Denver:20230930T163000
DTEND;TZID=America/Denver:20230930T203000
DTSTAMP:20260422T134545
CREATED:20230929T035005Z
LAST-MODIFIED:20230929T035005Z
UID:3933-1696091400-1696105800@thesalidacircus.com
SUMMARY:Clarke Farms
DESCRIPTION:Face painting\, balloon twisting and juggling at Clarke Farms Saturday\, September 30th from 4:30 PM – 8:30 PM
URL:https://thesalidacircus.com/event/clarke-farms/
LOCATION:Clarke Farms\, Clarke Farms Dr\, Parker\, 80134\, United States
END:VEVENT
BEGIN:VEVENT
DTSTART;VALUE=DATE:20230928
DTEND;VALUE=DATE:20231005
DTSTAMP:20260422T134545
CREATED:20230129T172937Z
LAST-MODIFIED:20230129T172937Z
UID:3664-1695859200-1696463999@thesalidacircus.com
SUMMARY:BIPAF Bethlehem International Performing Arts Festival
DESCRIPTION:Performing Arts Groups from around the would come together in Palestine for unity.
URL:https://thesalidacircus.com/event/bipaf-bethlehem-international-performing-arts-festival-2/
LOCATION:Bethlehem\, Palistine\, Israel
END:VEVENT
BEGIN:VEVENT
DTSTART;TZID=America/Denver:20230924T120000
DTEND;TZID=America/Denver:20230924T150000
DTSTAMP:20260422T134545
CREATED:20230816T154001Z
LAST-MODIFIED:20230829T175239Z
UID:3899-1695556800-1695567600@thesalidacircus.com
SUMMARY:Arapahoe Basin Oktoberfest
DESCRIPTION:Two 30-minute shows\, starting at 12pm and 2:15 pm!
URL:https://thesalidacircus.com/event/arapahoe-basin-oktoberfest/
LOCATION:Mountain Goat Plaza\, A Basin\, Colorado\, 28194 US Hwy 6\, Dillon\, CO\, 80435\, United States
CATEGORIES:Circus
END:VEVENT
BEGIN:VEVENT
DTSTART;TZID=America/Denver:20230923T180000
DTEND;TZID=America/Denver:20230923T200000
DTSTAMP:20260422T134545
CREATED:20230830T202235Z
LAST-MODIFIED:20230830T202235Z
UID:3927-1695492000-1695499200@thesalidacircus.com
SUMMARY:Historic Zapata Park
DESCRIPTION:3 stilt walkers
URL:https://thesalidacircus.com/event/historic-zapata-park/
LOCATION:Zapata Park\,Alamosa
END:VEVENT
BEGIN:VEVENT
DTSTART;TZID=America/Denver:20230923T120000
DTEND;TZID=America/Denver:20230923T180000
DTSTAMP:20260422T134545
CREATED:20230716T023618Z
LAST-MODIFIED:20230716T023618Z
UID:3887-1695470400-1695492000@thesalidacircus.com
SUMMARY:KHEN 20th Anniversary Festival
DESCRIPTION:Riverside Park in Salida\, Colo. \nSept. 23     12-6pm \n3 acts
URL:https://thesalidacircus.com/event/khen-20th-anniversary-festival/
LOCATION:Riverside Park\, Salida
END:VEVENT
BEGIN:VEVENT
DTSTART;VALUE=DATE:20230923
DTEND;VALUE=DATE:20230924
DTSTAMP:20260422T134545
CREATED:20230417T160522Z
LAST-MODIFIED:20230829T173107Z
UID:3771-1695427200-1695513599@thesalidacircus.com
SUMMARY:Alamosa Oktoberfest
DESCRIPTION:Saturday\, September 23rd\, 2023 in Cole Park (Outdoors) \n2pm to 5pm
URL:https://thesalidacircus.com/event/alamosa-oktoberfest/
LOCATION:Cole Park\, Alamosa\, Alamosa\, colorado
END:VEVENT
BEGIN:VEVENT
DTSTART;TZID=America/Denver:20230916T140000
DTEND;TZID=America/Denver:20230916T170000
DTSTAMP:20260422T134545
CREATED:20230816T154853Z
LAST-MODIFIED:20230829T172917Z
UID:3904-1694872800-1694883600@thesalidacircus.com
SUMMARY:Breckenridge Oktoberfest
DESCRIPTION:Saturday\, September 16th from 2 to 5 pm
URL:https://thesalidacircus.com/event/breckenridge-oktoberfest/
LOCATION:Breckenridge\, Co
CATEGORIES:Circus
END:VEVENT
BEGIN:VEVENT
DTSTART;VALUE=DATE:20230916
DTEND;VALUE=DATE:20230917
DTSTAMP:20260422T134545
CREATED:20230830T200055Z
LAST-MODIFIED:20230830T200055Z
UID:3916-1694822400-1694908799@thesalidacircus.com
SUMMARY:Alamosa Artfest
DESCRIPTION:
URL:https://thesalidacircus.com/event/alamosa-artfest/
LOCATION:Alamosa CO\,  610 State Avenue\, Alamosa \, co\, 81101
END:VEVENT
END:VCALENDAR